Package: ChAMP Version: 2.22.0 Command: /home/biocbuild/bbs-3.13-bioc/R/bin/R CMD check --install=check:ChAMP.install-out.txt --library=/home/biocbuild/bbs-3.13-bioc/R/library --no-vignettes --timings ChAMP_2.22.0.tar.gz StartedAt: 2021-10-14 09:13:12 -0400 (Thu, 14 Oct 2021) EndedAt: 2021-10-14 09:20:04 -0400 (Thu, 14 Oct 2021) EllapsedTime: 412.2 seconds RetCode: 0 Status: WARNINGS CheckDir: ChAMP.Rcheck Warnings: 2