Package: CellTrails Version: 1.10.0 Command: chmod a+r CellTrails -R && C:\Users\biocbuild\bbs-3.13-bioc\R\bin\R.exe CMD build --keep-empty-dirs --no-resave-data CellTrails StartedAt: 2021-10-14 12:38:46 -0400 (Thu, 14 Oct 2021) EndedAt: 2021-10-14 12:40:00 -0400 (Thu, 14 Oct 2021) EllapsedTime: 74.3 seconds RetCode: 0 Status: OK PackageFile: CellTrails_1.10.0.tar.gz PackageFileSize: 2.113 MiB