git_url: https://git.bioconductor.org/packages/CellScore git_branch: RELEASE_3_13 git_last_commit: 10431e2 git_last_commit_date: 2021-05-19 12:33:25 -0400 (Wed, 19 May 2021) Package: CellScore Version: 1.12.0 Maintainer: Nancy Mah MaintainerEmail: nancy.l.mah at googlemail.com