Package: CellNOptR Version: 1.38.0 Command: C:\cygwin\bin\curl.exe -O http://155.52.207.165/BBS/3.13/bioc/src/contrib/CellNOptR_1.38.0.tar.gz && rm -rf CellNOptR.buildbin-libdir && mkdir CellNOptR.buildbin-libdir && C:\Users\biocbuild\bbs-3.13-bioc\R\bin\R.exe CMD INSTALL --merge-multiarch --build --library=CellNOptR.buildbin-libdir CellNOptR_1.38.0.tar.gz && C:\Users\biocbuild\bbs-3.13-bioc\R\bin\R.exe CMD INSTALL CellNOptR_1.38.0.zip && rm CellNOptR_1.38.0.tar.gz CellNOptR_1.38.0.zip StartedAt: 2021-10-14 08:18:45 -0400 (Thu, 14 Oct 2021) EndedAt: 2021-10-14 08:20:28 -0400 (Thu, 14 Oct 2021) EllapsedTime: 103.1 seconds RetCode: 0 Status: OK