git_url: https://git.bioconductor.org/packages/CeTF git_branch: RELEASE_3_13 git_last_commit: bd93884 git_last_commit_date: 2021-09-09 09:27:19 -0400 (Thu, 09 Sep 2021) Package: CeTF Version: 1.4.5 Maintainer: Carlos Alberto Oliveira de Biagi Junior MaintainerEmail: cbiagijr at gmail.com