Package: CancerMutationAnalysis Version: 1.34.0 Command: chmod a+r CancerMutationAnalysis -R && C:\Users\biocbuild\bbs-3.13-bioc\R\bin\R.exe CMD build --keep-empty-dirs --no-resave-data CancerMutationAnalysis StartedAt: 2021-10-14 12:30:44 -0400 (Thu, 14 Oct 2021) EndedAt: 2021-10-14 12:31:59 -0400 (Thu, 14 Oct 2021) EllapsedTime: 74.7 seconds RetCode: 1 Status: ERROR PackageFile: None PackageFileSize: NA