Package: CancerMutationAnalysis Version: 1.34.0 Command: /home/biocbuild/bbs-3.13-bioc/R/bin/R CMD build --keep-empty-dirs --no-resave-data CancerMutationAnalysis StartedAt: 2021-10-14 06:51:44 -0400 (Thu, 14 Oct 2021) EndedAt: 2021-10-14 06:52:34 -0400 (Thu, 14 Oct 2021) EllapsedTime: 50.2 seconds RetCode: 1 Status: ERROR PackageFile: None PackageFileSize: NA