Package: CTDquerier Version: 2.0.0 Command: /home/biocbuild/bbs-3.13-bioc/R/bin/R CMD build --keep-empty-dirs --no-resave-data CTDquerier StartedAt: 2021-10-14 07:03:33 -0400 (Thu, 14 Oct 2021) EndedAt: 2021-10-14 07:03:36 -0400 (Thu, 14 Oct 2021) EllapsedTime: 2.6 seconds RetCode: 0 Status: OK PackageFile: CTDquerier_2.0.0.tar.gz PackageFileSize: 2.652 MiB