Package: CSSP Version: 1.30.0 Command: /home/biocbuild/bbs-3.13-bioc/R/bin/R CMD check --install=check:CSSP.install-out.txt --library=/home/biocbuild/bbs-3.13-bioc/R/library --no-vignettes --timings CSSP_1.30.0.tar.gz StartedAt: 2021-10-14 09:26:09 -0400 (Thu, 14 Oct 2021) EndedAt: 2021-10-14 09:26:48 -0400 (Thu, 14 Oct 2021) EllapsedTime: 39.5 seconds RetCode: 0 Status: OK CheckDir: CSSP.Rcheck Warnings: 0