Package: CSSP Version: 1.30.0 Command: /Library/Frameworks/R.framework/Versions/Current/Resources/bin/R CMD INSTALL CSSP StartedAt: 2021-10-14 08:10:52 -0400 (Thu, 14 Oct 2021) EndedAt: 2021-10-14 08:11:39 -0400 (Thu, 14 Oct 2021) EllapsedTime: 47.1 seconds RetCode: 0 Status: OK