Package: CRImage Version: 1.40.0 Command: chmod a+r CRImage -R && C:\Users\biocbuild\bbs-3.13-bioc\R\bin\R.exe CMD build --keep-empty-dirs --no-resave-data CRImage StartedAt: 2021-10-14 13:06:45 -0400 (Thu, 14 Oct 2021) EndedAt: 2021-10-14 13:07:16 -0400 (Thu, 14 Oct 2021) EllapsedTime: 31.5 seconds RetCode: 0 Status: OK PackageFile: CRImage_1.40.0.tar.gz PackageFileSize: 7.581 MiB