Package: CORREP Version: 1.58.0 Command: C:\Users\biocbuild\bbs-3.13-bioc\R\bin\R.exe CMD check --force-multiarch --install=check:CORREP.install-out.txt --library=C:\Users\biocbuild\bbs-3.13-bioc\R\library --no-vignettes --timings CORREP_1.58.0.tar.gz StartedAt: 2021-10-14 21:38:56 -0400 (Thu, 14 Oct 2021) EndedAt: 2021-10-14 21:39:56 -0400 (Thu, 14 Oct 2021) EllapsedTime: 59.3 seconds RetCode: 0 Status: OK CheckDir: CORREP.Rcheck Warnings: 0