Package: CORREP Version: 1.58.0 Command: /home/biocbuild/bbs-3.13-bioc/R/bin/R CMD build --keep-empty-dirs --no-resave-data CORREP StartedAt: 2021-10-14 07:02:19 -0400 (Thu, 14 Oct 2021) EndedAt: 2021-10-14 07:02:30 -0400 (Thu, 14 Oct 2021) EllapsedTime: 11.0 seconds RetCode: 0 Status: OK PackageFile: CORREP_1.58.0.tar.gz PackageFileSize: 264.9 KiB