Package: CONSTANd Version: 1.0.0 Command: rm -rf CONSTANd.buildbin-libdir && mkdir CONSTANd.buildbin-libdir && /Users/biocbuild/BBS/utils/build-universal.sh CONSTANd_1.0.0.tar.gz /Library/Frameworks/R.framework/Versions/Current/Resources/bin/R CONSTANd.buildbin-libdir StartedAt: 2021-10-15 02:02:31 -0400 (Fri, 15 Oct 2021) EndedAt: 2021-10-15 02:03:34 -0400 (Fri, 15 Oct 2021) EllapsedTime: 63.5 seconds RetCode: 0 Status: OK PackageFile: CONSTANd_1.0.0.tgz PackageFileSize: 1.661 MiB