Package: CONFESS Version: 1.20.0 Command: rm -rf CONFESS.buildbin-libdir && mkdir CONFESS.buildbin-libdir && /Users/biocbuild/BBS/utils/build-universal.sh CONFESS_1.20.0.tar.gz /Library/Frameworks/R.framework/Versions/Current/Resources/bin/R CONFESS.buildbin-libdir StartedAt: 2021-10-15 02:01:57 -0400 (Fri, 15 Oct 2021) EndedAt: 2021-10-15 02:03:02 -0400 (Fri, 15 Oct 2021) EllapsedTime: 65.0 seconds RetCode: 0 Status: OK PackageFile: CONFESS_1.20.0.tgz PackageFileSize: 3.101 MiB