Package: COHCAP Version: 1.38.0 Command: C:\cygwin\bin\curl.exe -O http://155.52.207.165/BBS/3.13/bioc/src/contrib/COHCAP_1.38.0.tar.gz && rm -rf COHCAP.buildbin-libdir && mkdir COHCAP.buildbin-libdir && C:\Users\biocbuild\bbs-3.13-bioc\R\bin\R.exe CMD INSTALL --merge-multiarch --build --library=COHCAP.buildbin-libdir COHCAP_1.38.0.tar.gz && C:\Users\biocbuild\bbs-3.13-bioc\R\bin\R.exe CMD INSTALL COHCAP_1.38.0.zip && rm COHCAP_1.38.0.tar.gz COHCAP_1.38.0.zip StartedAt: 2021-10-14 08:33:45 -0400 (Thu, 14 Oct 2021) EndedAt: 2021-10-14 08:35:41 -0400 (Thu, 14 Oct 2021) EllapsedTime: 116.5 seconds RetCode: 0 Status: OK