git_url: https://git.bioconductor.org/packages/COHCAP git_branch: RELEASE_3_13 git_last_commit: 706e19c git_last_commit_date: 2021-05-19 12:02:22 -0400 (Wed, 19 May 2021) Package: COHCAP Version: 1.38.0 Maintainer: Charles Warden MaintainerEmail: cwarden at coh.org