Package: CNVrd2 Version: 1.30.0 Command: chmod a+r CNVrd2 -R && C:\Users\biocbuild\bbs-3.13-bioc\R\bin\R.exe CMD build --keep-empty-dirs --no-resave-data CNVrd2 StartedAt: 2021-10-14 12:56:10 -0400 (Thu, 14 Oct 2021) EndedAt: 2021-10-14 12:57:41 -0400 (Thu, 14 Oct 2021) EllapsedTime: 91.0 seconds RetCode: 0 Status: OK PackageFile: CNVrd2_1.30.0.tar.gz PackageFileSize: 2.537 MiB