Package: CNVrd2 Version: 1.30.0 Command: /home/biocbuild/bbs-3.13-bioc/R/bin/R CMD check --install=check:CNVrd2.install-out.txt --library=/home/biocbuild/bbs-3.13-bioc/R/library --no-vignettes --timings CNVrd2_1.30.0.tar.gz StartedAt: 2021-10-14 09:20:06 -0400 (Thu, 14 Oct 2021) EndedAt: 2021-10-14 09:23:49 -0400 (Thu, 14 Oct 2021) EllapsedTime: 223.0 seconds RetCode: 0 Status: OK CheckDir: CNVrd2.Rcheck Warnings: 0