Package: CNVrd2 Version: 1.30.0 Command: /home/biocbuild/bbs-3.13-bioc/R/bin/R CMD build --keep-empty-dirs --no-resave-data CNVrd2 StartedAt: 2021-10-14 06:59:31 -0400 (Thu, 14 Oct 2021) EndedAt: 2021-10-14 07:00:38 -0400 (Thu, 14 Oct 2021) EllapsedTime: 67.1 seconds RetCode: 0 Status: OK PackageFile: CNVrd2_1.30.0.tar.gz PackageFileSize: 2.53 MiB