Package: CNVrd2 Version: 1.30.0 Command: /Library/Frameworks/R.framework/Versions/Current/Resources/bin/R CMD check --install=check:CNVrd2.install-out.txt --library=/Library/Frameworks/R.framework/Versions/Current/Resources/library --no-vignettes --timings CNVrd2_1.30.0.tar.gz StartedAt: 2021-10-14 17:37:34 -0400 (Thu, 14 Oct 2021) EndedAt: 2021-10-14 17:42:48 -0400 (Thu, 14 Oct 2021) EllapsedTime: 314.6 seconds RetCode: 0 Status: OK CheckDir: CNVrd2.Rcheck Warnings: 0