git_url: https://git.bioconductor.org/packages/CNVrd2 git_branch: RELEASE_3_13 git_last_commit: 0a3ceac git_last_commit_date: 2021-05-19 12:01:50 -0400 (Wed, 19 May 2021) Package: CNVrd2 Version: 1.30.0 Maintainer: Hoang Tan Nguyen MaintainerEmail: hoangtannguyenvn at gmail.com