Package: CNORfuzzy
Version: 1.34.0
Command: rm -rf CNORfuzzy.buildbin-libdir && mkdir CNORfuzzy.buildbin-libdir && C:\Users\biocbuild\bbs-3.13-bioc\R\bin\R.exe CMD INSTALL --merge-multiarch --build --library=CNORfuzzy.buildbin-libdir CNORfuzzy_1.34.0.tar.gz
StartedAt: 2021-10-15 08:38:45 -0400 (Fri, 15 Oct 2021)
EndedAt: 2021-10-15 08:40:09 -0400 (Fri, 15 Oct 2021)
EllapsedTime: 84.0 seconds
RetCode: 0
Status: OK
PackageFile: CNORfuzzy_1.34.0.zip
PackageFileSize: 743.9 <A href="http://en.wikipedia.org/wiki/KiB" target="_blank">KiB</A>