Package: CNORdt Version: 1.34.0 Command: chmod a+r CNORdt -R && C:\Users\biocbuild\bbs-3.13-bioc\R\bin\R.exe CMD build --keep-empty-dirs --no-resave-data CNORdt StartedAt: 2021-10-14 12:54:31 -0400 (Thu, 14 Oct 2021) EndedAt: 2021-10-14 12:55:36 -0400 (Thu, 14 Oct 2021) EllapsedTime: 64.8 seconds RetCode: 0 Status: OK PackageFile: CNORdt_1.34.0.tar.gz PackageFileSize: 255.3 KiB