Package: CNORdt Version: 1.34.0 Command: /Library/Frameworks/R.framework/Versions/Current/Resources/bin/R CMD INSTALL CNORdt StartedAt: 2021-10-14 08:50:37 -0400 (Thu, 14 Oct 2021) EndedAt: 2021-10-14 08:51:26 -0400 (Thu, 14 Oct 2021) EllapsedTime: 48.9 seconds RetCode: 0 Status: OK