Package: CNORdt Version: 1.34.0 Command: /Library/Frameworks/R.framework/Versions/Current/Resources/bin/R CMD build --keep-empty-dirs --no-resave-data CNORdt StartedAt: 2021-10-14 11:19:59 -0400 (Thu, 14 Oct 2021) EndedAt: 2021-10-14 11:21:05 -0400 (Thu, 14 Oct 2021) EllapsedTime: 65.7 seconds RetCode: 0 Status: OK PackageFile: CNORdt_1.34.0.tar.gz PackageFileSize: 239.9 KiB