git_url: https://git.bioconductor.org/packages/CNORdt git_branch: RELEASE_3_13 git_last_commit: 2fc1fa3 git_last_commit_date: 2021-05-19 11:54:09 -0400 (Wed, 19 May 2021) Package: CNORdt Version: 1.34.0 Maintainer: A. MacNamara MaintainerEmail: aidan.macnamara at ebi.ac.uk