git_url: https://git.bioconductor.org/packages/CNEr git_branch: RELEASE_3_13 git_last_commit: fdeac98 git_last_commit_date: 2021-05-19 12:02:51 -0400 (Wed, 19 May 2021) Package: CNEr Version: 1.28.0 Maintainer: Ge Tan MaintainerEmail: ge_tan at live.com