git_url: https://git.bioconductor.org/packages/CNAnorm git_branch: RELEASE_3_13 git_last_commit: fd0b875 git_last_commit_date: 2021-05-19 11:50:07 -0400 (Wed, 19 May 2021) Package: CNAnorm Version: 1.38.0 Maintainer: Stefano Berri MaintainerEmail: sberri at illumina.com