Package: CINdex Version: 1.20.0 Command: chmod a+r CINdex -R && C:\Users\biocbuild\bbs-3.13-bioc\R\bin\R.exe CMD build --keep-empty-dirs --no-resave-data CINdex StartedAt: 2021-10-14 12:48:37 -0400 (Thu, 14 Oct 2021) EndedAt: 2021-10-14 13:04:51 -0400 (Thu, 14 Oct 2021) EllapsedTime: 973.8 seconds RetCode: 0 Status: OK PackageFile: CINdex_1.20.0.tar.gz PackageFileSize: 12.49 MiB