git_url: https://git.bioconductor.org/packages/CINdex git_branch: RELEASE_3_13 git_last_commit: 9a99af4 git_last_commit_date: 2021-05-19 12:19:26 -0400 (Wed, 19 May 2021) Package: CINdex Version: 1.20.0 Maintainer: Yuriy Gusev MaintainerEmail: yg63 at georgetown.edu