Package: CHRONOS Version: 1.20.0 Command: /Library/Frameworks/R.framework/Versions/Current/Resources/bin/R CMD check --install=check:CHRONOS.install-out.txt --library=/Library/Frameworks/R.framework/Versions/Current/Resources/library --no-vignettes --timings CHRONOS_1.20.0.tar.gz StartedAt: 2021-10-14 17:24:21 -0400 (Thu, 14 Oct 2021) EndedAt: 2021-10-14 17:27:43 -0400 (Thu, 14 Oct 2021) EllapsedTime: 202.0 seconds RetCode: 0 Status: OK CheckDir: CHRONOS.Rcheck Warnings: 0