Package: CGHbase Version: 1.52.0 Command: C:\Users\biocbuild\bbs-3.13-bioc\R\bin\R.exe CMD check --force-multiarch --install=check:CGHbase.install-out.txt --library=C:\Users\biocbuild\bbs-3.13-bioc\R\library --no-vignettes --timings CGHbase_1.52.0.tar.gz StartedAt: 2021-10-14 20:54:17 -0400 (Thu, 14 Oct 2021) EndedAt: 2021-10-14 20:55:26 -0400 (Thu, 14 Oct 2021) EllapsedTime: 69.1 seconds RetCode: 0 Status: OK CheckDir: CGHbase.Rcheck Warnings: 0