Package: CEMiTool Version: 1.16.0 Command: /home/biocbuild/bbs-3.13-bioc/R/bin/R CMD check --install=check:CEMiTool.install-out.txt --library=/home/biocbuild/bbs-3.13-bioc/R/library --no-vignettes --timings CEMiTool_1.16.0.tar.gz StartedAt: 2021-10-14 09:12:12 -0400 (Thu, 14 Oct 2021) EndedAt: 2021-10-14 09:16:11 -0400 (Thu, 14 Oct 2021) EllapsedTime: 238.7 seconds RetCode: 0 Status: OK CheckDir: CEMiTool.Rcheck Warnings: 0