git_url: https://git.bioconductor.org/packages/CEMiTool git_branch: RELEASE_3_13 git_last_commit: 899b859 git_last_commit_date: 2021-08-25 09:42:58 -0400 (Wed, 25 Aug 2021) Package: CEMiTool Version: 1.16.0 Maintainer: Helder Nakaya MaintainerEmail: hnakaya at usp.br