Package: CAMERA Version: 1.48.0 Command: /home/biocbuild/bbs-3.13-bioc/R/bin/R CMD build --keep-empty-dirs --no-resave-data CAMERA StartedAt: 2021-10-14 06:51:21 -0400 (Thu, 14 Oct 2021) EndedAt: 2021-10-14 06:52:25 -0400 (Thu, 14 Oct 2021) EllapsedTime: 63.5 seconds RetCode: 0 Status: OK PackageFile: CAMERA_1.48.0.tar.gz PackageFileSize: 2.074 MiB