git_url: https://git.bioconductor.org/packages/CAMERA git_branch: RELEASE_3_13 git_last_commit: 5ad3135 git_last_commit_date: 2021-05-19 11:42:44 -0400 (Wed, 19 May 2021) Package: CAMERA Version: 1.48.0 Maintainer: Steffen Neumann MaintainerEmail: sneumann at ipb-halle.de