Package: CAFE Version: 1.28.0 Command: rm -rf CAFE.buildbin-libdir && mkdir CAFE.buildbin-libdir && /Users/biocbuild/BBS/utils/build-universal.sh CAFE_1.28.0.tar.gz /Library/Frameworks/R.framework/Versions/Current/Resources/bin/R CAFE.buildbin-libdir StartedAt: 2021-10-15 01:49:12 -0400 (Fri, 15 Oct 2021) EndedAt: 2021-10-15 01:50:22 -0400 (Fri, 15 Oct 2021) EllapsedTime: 70.5 seconds RetCode: 0 Status: OK PackageFile: CAFE_1.28.0.tgz PackageFileSize: 4.66 MiB