Package: CAEN Version: 1.0.0 Command: chmod a+r CAEN -R && C:\Users\biocbuild\bbs-3.13-bioc\R\bin\R.exe CMD build --keep-empty-dirs --no-resave-data CAEN StartedAt: 2021-10-14 12:28:34 -0400 (Thu, 14 Oct 2021) EndedAt: 2021-10-14 12:31:24 -0400 (Thu, 14 Oct 2021) EllapsedTime: 170.0 seconds RetCode: 0 Status: OK PackageFile: CAEN_1.0.0.tar.gz PackageFileSize: 987.9 KiB