Package: BumpyMatrix Version: 1.0.1 Command: /home/biocbuild/bbs-3.13-bioc/R/bin/R CMD check --install=check:BumpyMatrix.install-out.txt --library=/home/biocbuild/bbs-3.13-bioc/R/library --no-vignettes --timings BumpyMatrix_1.0.1.tar.gz StartedAt: 2021-10-14 09:06:48 -0400 (Thu, 14 Oct 2021) EndedAt: 2021-10-14 09:08:11 -0400 (Thu, 14 Oct 2021) EllapsedTime: 82.7 seconds RetCode: 0 Status: OK CheckDir: BumpyMatrix.Rcheck Warnings: 0