Package: BubbleTree Version: 2.22.0 Command: chmod a+r BubbleTree -R && C:\Users\biocbuild\bbs-3.13-bioc\R\bin\R.exe CMD build --keep-empty-dirs --no-resave-data BubbleTree StartedAt: 2021-10-14 12:27:13 -0400 (Thu, 14 Oct 2021) EndedAt: 2021-10-14 12:30:53 -0400 (Thu, 14 Oct 2021) EllapsedTime: 219.9 seconds RetCode: 0 Status: OK PackageFile: BubbleTree_2.22.0.tar.gz PackageFileSize: 25.99 MiB