git_url: https://git.bioconductor.org/packages/BubbleTree git_branch: RELEASE_3_13 git_last_commit: d94bc48 git_last_commit_date: 2021-05-19 12:11:10 -0400 (Wed, 19 May 2021) Package: BubbleTree Version: 2.22.0 Maintainer: Todd Creasy , Wei Zhu MaintainerEmail: weizhu365 at gmail.com