Package: BridgeDbR Version: 2.2.1 Command: rm -rf BridgeDbR.buildbin-libdir && mkdir BridgeDbR.buildbin-libdir && /Users/biocbuild/BBS/utils/build-universal.sh BridgeDbR_2.2.1.tar.gz /Library/Frameworks/R.framework/Versions/Current/Resources/bin/R BridgeDbR.buildbin-libdir StartedAt: 2021-10-15 01:47:55 -0400 (Fri, 15 Oct 2021) EndedAt: 2021-10-15 01:49:06 -0400 (Fri, 15 Oct 2021) EllapsedTime: 71.6 seconds RetCode: 0 Status: OK PackageFile: BridgeDbR_2.2.1.tgz PackageFileSize: 2.612 MiB