Package: BrainSABER Version: 1.2.0 Command: /Library/Frameworks/R.framework/Versions/Current/Resources/bin/R CMD build --keep-empty-dirs --no-resave-data BrainSABER StartedAt: 2021-10-14 10:58:14 -0400 (Thu, 14 Oct 2021) EndedAt: 2021-10-14 11:00:32 -0400 (Thu, 14 Oct 2021) EllapsedTime: 138.1 seconds RetCode: 1 Status: ERROR PackageFile: None PackageFileSize: NA