git_url: https://git.bioconductor.org/packages/Biostrings git_branch: RELEASE_3_13 git_last_commit: 2024073 git_last_commit_date: 2021-08-04 00:39:03 -0400 (Wed, 04 Aug 2021) Package: Biostrings Version: 2.60.2 Maintainer: H. Pagès MaintainerEmail: hpages.on.github at gmail.com