Package: BiocPkgTools Version: 1.10.2 Command: /Library/Frameworks/R.framework/Versions/Current/Resources/bin/R CMD INSTALL BiocPkgTools StartedAt: 2021-10-14 09:44:35 -0400 (Thu, 14 Oct 2021) EndedAt: 2021-10-14 09:45:30 -0400 (Thu, 14 Oct 2021) EllapsedTime: 55.1 seconds RetCode: 0 Status: OK