Package: BiocPkgTools Version: 1.10.2 Command: /Library/Frameworks/R.framework/Versions/Current/Resources/bin/R CMD check --install=check:BiocPkgTools.install-out.txt --library=/Library/Frameworks/R.framework/Versions/Current/Resources/library --no-vignettes --timings BiocPkgTools_1.10.2.tar.gz StartedAt: 2021-10-14 16:45:39 -0400 (Thu, 14 Oct 2021) EndedAt: 2021-10-14 16:49:44 -0400 (Thu, 14 Oct 2021) EllapsedTime: 244.7 seconds RetCode: 0 Status: OK CheckDir: BiocPkgTools.Rcheck Warnings: 0