Package: BiocPkgTools Version: 1.10.2 Command: rm -rf BiocPkgTools.buildbin-libdir && mkdir BiocPkgTools.buildbin-libdir && /Users/biocbuild/BBS/utils/build-universal.sh BiocPkgTools_1.10.2.tar.gz /Library/Frameworks/R.framework/Versions/Current/Resources/bin/R BiocPkgTools.buildbin-libdir StartedAt: 2021-10-15 01:43:57 -0400 (Fri, 15 Oct 2021) EndedAt: 2021-10-15 01:45:01 -0400 (Fri, 15 Oct 2021) EllapsedTime: 63.9 seconds RetCode: 0 Status: OK PackageFile: BiocPkgTools_1.10.2.tgz PackageFileSize: 1.447 MiB