Package: BiocNeighbors Version: 1.10.0 Command: /home/biocbuild/bbs-3.13-bioc/R/bin/R CMD check --install=check:BiocNeighbors.install-out.txt --library=/home/biocbuild/bbs-3.13-bioc/R/library --no-vignettes --timings BiocNeighbors_1.10.0.tar.gz StartedAt: 2021-10-14 09:01:36 -0400 (Thu, 14 Oct 2021) EndedAt: 2021-10-14 09:06:02 -0400 (Thu, 14 Oct 2021) EllapsedTime: 266.3 seconds RetCode: 0 Status: OK CheckDir: BiocNeighbors.Rcheck Warnings: 0