Package: BiocNeighbors Version: 1.10.0 Command: /home/biocbuild/bbs-3.13-bioc/R/bin/R CMD build --keep-empty-dirs --no-resave-data BiocNeighbors StartedAt: 2021-10-14 06:47:10 -0400 (Thu, 14 Oct 2021) EndedAt: 2021-10-14 06:49:50 -0400 (Thu, 14 Oct 2021) EllapsedTime: 160.7 seconds RetCode: 0 Status: OK PackageFile: BiocNeighbors_1.10.0.tar.gz PackageFileSize: 914.5 KiB